BEGIN:VCALENDAR
VERSION:2.0
PRODID:-//Department Of Education//953b0c9a-987e-48c0-882d-a1d153ac2169
BEGIN:VTIMEZONE
TZID:Australia/Sydney
TZURL:http://tzurl.org/zoneinfo-outlook/Australia/Sydney
X-LIC-LOCATION:Australia/Sydney
BEGIN:STANDARD
TZOFFSETFROM:+1100
TZOFFSETTO:+1000
TZNAME:AEST
DTSTART:19700405T030000
RRULE:FREQ=YEARLY;BYMONTH=4;BYDAY=1SU
END:STANDARD
BEGIN:DAYLIGHT
TZOFFSETFROM:+1000
TZOFFSETTO:+1100
TZNAME:AEDT
DTSTART:19701004T020000
RRULE:FREQ=YEARLY;BYMONTH=10;BYDAY=1SU
END:DAYLIGHT
END:VTIMEZONE
CALSCALE:GREGORIAN
X-WR-TIMEZONE:Australia/Sydney
BEGIN:VEVENT
DTSTART;VALUE=DATE:20200302
DTEND;VALUE=DATE:20200303
DTSTAMP:20200302T000000Z
UID:340fa847-f6b3-48a2-98e8-546a1f26775f
LOCATION:Sefton Infants School
SUMMARY;LANGUAGE=en-us:Just Like Me - Stage One Program
RRULE:FREQ=WEEKLY;INTERVAL=1;UNTIL=20200302;
SEQUENCE:0
DESCRIPTION:Guest presenters will be visiting the school to run practical and fun workshops to increase our students' awareness of disability and inclusivity.
END:VEVENT
TRANSP:TRANSPARENT
END:VCALENDAR
