BEGIN:VCALENDAR
VERSION:2.0
PRODID:-//Department Of Education//fb1b8909-b34f-470f-903a-29be17887870
BEGIN:VTIMEZONE
TZID:Australia/Sydney
TZURL:http://tzurl.org/zoneinfo-outlook/Australia/Sydney
X-LIC-LOCATION:Australia/Sydney
BEGIN:STANDARD
TZOFFSETFROM:+1100
TZOFFSETTO:+1000
TZNAME:AEST
DTSTART:19700405T030000
RRULE:FREQ=YEARLY;BYMONTH=4;BYDAY=1SU
END:STANDARD
BEGIN:DAYLIGHT
TZOFFSETFROM:+1000
TZOFFSETTO:+1100
TZNAME:AEDT
DTSTART:19701004T020000
RRULE:FREQ=YEARLY;BYMONTH=10;BYDAY=1SU
END:DAYLIGHT
END:VTIMEZONE
CALSCALE:GREGORIAN
X-WR-TIMEZONE:Australia/Sydney
BEGIN:VEVENT
DTSTART;TZID=Australia/Sydney:20200226T093000
DTEND;TZID=Australia/Sydney:20200226T113000
DTSTAMP:20200226T000000Z
UID:a047a745-cb01-489e-9fed-df2c99894c1e
LOCATION:Sefton Infants School Library
SUMMARY;LANGUAGE=en-us:Bringing Up Great Kids - Parenting Program
RRULE:FREQ=WEEKLY;INTERVAL=1;UNTIL=20200311;
SEQUENCE:0
DESCRIPTION:'Bringing Up Great Kids' is for parents/carers with children of any age. This practical program develops communication skills, parenting techniques, as well as ways to develop respectful relationships between parents and their children. Join us for the three sessions of this program. Registration forms have been distributed to the students and need to be returned to the school office by Friday 21 February in order to be a participant in the program. We hope to see you there!
END:VEVENT
TRANSP:TRANSPARENT
END:VCALENDAR
