BEGIN:VCALENDAR
VERSION:2.0
PRODID:-//Department Of Education//f97b4f2f-0390-4afc-bdf2-7939a5c5d18e
BEGIN:VTIMEZONE
TZID:Australia/Sydney
TZURL:http://tzurl.org/zoneinfo-outlook/Australia/Sydney
X-LIC-LOCATION:Australia/Sydney
BEGIN:STANDARD
TZOFFSETFROM:+1100
TZOFFSETTO:+1000
TZNAME:AEST
DTSTART:19700405T030000
RRULE:FREQ=YEARLY;BYMONTH=4;BYDAY=1SU
END:STANDARD
BEGIN:DAYLIGHT
TZOFFSETFROM:+1000
TZOFFSETTO:+1100
TZNAME:AEDT
DTSTART:19701004T020000
RRULE:FREQ=YEARLY;BYMONTH=10;BYDAY=1SU
END:DAYLIGHT
END:VTIMEZONE
CALSCALE:GREGORIAN
X-WR-TIMEZONE:Australia/Sydney
BEGIN:VEVENT
DTSTART;TZID=Australia/Sydney:20200219T030000
DTEND;TZID=Australia/Sydney:20200219T041500
DTSTAMP:20200219T000000Z
UID:94b9d8b9-246b-4749-ac89-a33c7c4b5d24
LOCATION:Sefton Infants School
SUMMARY;LANGUAGE=en-us:After School Sports Program
RRULE:FREQ=WEEKLY;INTERVAL=1;UNTIL=20200401;
SEQUENCE:0
DESCRIPTION:A weekly after school sports program for our students. It aims to develop an active lifestyle, sport skills and social connections.
END:VEVENT
TRANSP:TRANSPARENT
END:VCALENDAR
